Package: phosphonormalizer Version: 1.32.0 Command: rm -rf phosphonormalizer.buildbin-libdir && mkdir phosphonormalizer.buildbin-libdir && /Users/biocbuild/BBS/utils/build-universal.sh phosphonormalizer_1.32.0.tar.gz /Library/Frameworks/R.framework/Resources/bin/R phosphonormalizer.buildbin-libdir StartedAt: 2025-10-15 19:47:15 -0400 (Wed, 15 Oct 2025) EndedAt: 2025-10-15 19:47:20 -0400 (Wed, 15 Oct 2025) EllapsedTime: 4.5 seconds RetCode: 0 Status: OK PackageFile: phosphonormalizer_1.32.0.tgz PackageFileSize: 2.709 MiB