Package: pgxRpi Version: 1.4.4 Command: /home/biocbuild/bbs-3.21-bioc/R/bin/R CMD INSTALL pgxRpi StartedAt: 2025-10-15 15:30:23 -0400 (Wed, 15 Oct 2025) EndedAt: 2025-10-15 15:30:26 -0400 (Wed, 15 Oct 2025) EllapsedTime: 3.0 seconds RetCode: 0 Status: OK