Package: pgxRpi Version: 1.4.4 Command: /home/biocbuild/bbs-3.21-bioc/R/bin/R CMD build --keep-empty-dirs --no-resave-data pgxRpi StartedAt: 2025-10-15 19:07:41 -0400 (Wed, 15 Oct 2025) EndedAt: 2025-10-15 19:15:36 -0400 (Wed, 15 Oct 2025) EllapsedTime: 475.5 seconds RetCode: 0 Status: OK PackageFile: pgxRpi_1.4.4.tar.gz PackageFileSize: 2.787 MiB