Package: pgxRpi Version: 1.4.4 Command: /home/biocbuild/R/R/bin/R CMD INSTALL pgxRpi StartedAt: 2025-10-13 20:46:00 -0000 (Mon, 13 Oct 2025) EndedAt: 2025-10-13 20:46:04 -0000 (Mon, 13 Oct 2025) EllapsedTime: 4.5 seconds RetCode: 0 Status: OK