Package: pgxRpi Version: 1.4.4 Command: /home/biocbuild/R/R/bin/R CMD build --keep-empty-dirs --no-resave-data pgxRpi StartedAt: 2025-10-14 03:29:48 -0000 (Tue, 14 Oct 2025) EndedAt: 2025-10-14 03:39:56 -0000 (Tue, 14 Oct 2025) EllapsedTime: 608.3 seconds RetCode: 0 Status: OK PackageFile: pgxRpi_1.4.4.tar.gz PackageFileSize: 2.792 MiB