Package: pepXMLTab Version: 1.42.0 Command: /Library/Frameworks/R.framework/Resources/bin/R CMD INSTALL pepXMLTab StartedAt: 2025-10-13 15:06:24 -0400 (Mon, 13 Oct 2025) EndedAt: 2025-10-13 15:06:48 -0400 (Mon, 13 Oct 2025) EllapsedTime: 24.0 seconds RetCode: 0 Status: OK