Package: pepXMLTab Version: 1.42.0 Command: /Library/Frameworks/R.framework/Resources/bin/R CMD build --keep-empty-dirs --no-resave-data pepXMLTab StartedAt: 2025-10-13 21:30:14 -0400 (Mon, 13 Oct 2025) EndedAt: 2025-10-13 21:30:39 -0400 (Mon, 13 Oct 2025) EllapsedTime: 25.0 seconds RetCode: 0 Status: OK PackageFile: pepXMLTab_1.42.0.tar.gz PackageFileSize: 187.5 KiB