Package: pepXMLTab Version: 1.42.0 Command: rm -rf pepXMLTab.buildbin-libdir && mkdir pepXMLTab.buildbin-libdir && /Users/biocbuild/BBS/utils/build-universal.sh pepXMLTab_1.42.0.tar.gz /Library/Frameworks/R.framework/Resources/bin/R pepXMLTab.buildbin-libdir StartedAt: 2025-10-14 14:22:01 -0400 (Tue, 14 Oct 2025) EndedAt: 2025-10-14 14:22:09 -0400 (Tue, 14 Oct 2025) EllapsedTime: 7.4 seconds RetCode: 0 Status: OK PackageFile: pepXMLTab_1.42.0.tgz PackageFileSize: 206.1 KiB