Package: pepXMLTab Version: 1.42.0 Command: /home/biocbuild/R/R/bin/R CMD INSTALL pepXMLTab StartedAt: 2025-10-13 20:12:50 -0000 (Mon, 13 Oct 2025) EndedAt: 2025-10-13 20:13:04 -0000 (Mon, 13 Oct 2025) EllapsedTime: 13.9 seconds RetCode: 0 Status: OK