Package: pepXMLTab Version: 1.42.0 Command: /home/biocbuild/R/R/bin/R CMD build --keep-empty-dirs --no-resave-data pepXMLTab StartedAt: 2025-10-14 03:29:24 -0000 (Tue, 14 Oct 2025) EndedAt: 2025-10-14 03:29:33 -0000 (Tue, 14 Oct 2025) EllapsedTime: 9.0 seconds RetCode: 0 Status: OK PackageFile: pepXMLTab_1.42.0.tar.gz PackageFileSize: 185.4 KiB