Package: pepXMLTab Version: 1.42.0 Command: /Library/Frameworks/R.framework/Resources/bin/R CMD INSTALL pepXMLTab StartedAt: 2025-10-13 15:08:02 -0400 (Mon, 13 Oct 2025) EndedAt: 2025-10-13 15:08:04 -0400 (Mon, 13 Oct 2025) EllapsedTime: 2.3 seconds RetCode: 0 Status: OK