Package: pepXMLTab Version: 1.42.0 Command: /Library/Frameworks/R.framework/Resources/bin/R CMD build --keep-empty-dirs --no-resave-data pepXMLTab StartedAt: 2025-10-14 06:28:15 -0400 (Tue, 14 Oct 2025) EndedAt: 2025-10-14 06:28:31 -0400 (Tue, 14 Oct 2025) EllapsedTime: 15.9 seconds RetCode: 0 Status: OK PackageFile: pepXMLTab_1.42.0.tar.gz PackageFileSize: 187.6 KiB