Package: pepStat Version: 1.42.0 Command: rm -rf pepStat.buildbin-libdir && mkdir pepStat.buildbin-libdir && /Users/biocbuild/BBS/utils/build-universal.sh pepStat_1.42.0.tar.gz /Library/Frameworks/R.framework/Resources/bin/R pepStat.buildbin-libdir StartedAt: 2025-04-21 22:46:05 -0400 (Mon, 21 Apr 2025) EndedAt: 2025-04-21 22:46:13 -0400 (Mon, 21 Apr 2025) EllapsedTime: 8.2 seconds RetCode: 0 Status: OK PackageFile: pepStat_1.42.0.tgz PackageFileSize: 735.2 KiB