Package: pengls Version: 1.14.0 Command: /home/biocbuild/R/R/bin/R CMD INSTALL pengls StartedAt: 2025-10-13 20:17:07 -0000 (Mon, 13 Oct 2025) EndedAt: 2025-10-13 20:17:56 -0000 (Mon, 13 Oct 2025) EllapsedTime: 49.4 seconds RetCode: 0 Status: OK