Package: pengls Version: 1.14.0 Command: /home/biocbuild/R/R/bin/R CMD build --keep-empty-dirs --no-resave-data pengls StartedAt: 2025-10-14 03:28:18 -0000 (Tue, 14 Oct 2025) EndedAt: 2025-10-14 03:32:06 -0000 (Tue, 14 Oct 2025) EllapsedTime: 228.2 seconds RetCode: 0 Status: OK PackageFile: pengls_1.14.0.tar.gz PackageFileSize: 55.93 KiB