Package: peakPantheR Version: 1.22.1 Command: /home/biocbuild/R/R/bin/R CMD build --keep-empty-dirs --no-resave-data peakPantheR StartedAt: 2025-10-14 03:27:54 -0000 (Tue, 14 Oct 2025) EndedAt: 2025-10-14 03:30:16 -0000 (Tue, 14 Oct 2025) EllapsedTime: 142.2 seconds RetCode: 0 Status: OK PackageFile: peakPantheR_1.22.1.tar.gz PackageFileSize: 4.138 MiB