Package: pcaMethods Version: 2.0.0 Command: /home/biocbuild/bbs-3.21-bioc/R/bin/R CMD INSTALL pcaMethods StartedAt: 2025-10-15 15:12:00 -0400 (Wed, 15 Oct 2025) EndedAt: 2025-10-15 15:12:14 -0400 (Wed, 15 Oct 2025) EllapsedTime: 14.0 seconds RetCode: 0 Status: OK