Package: pcaMethods Version: 2.0.0 Command: /home/biocbuild/bbs-3.21-bioc/R/bin/R CMD check --install=check:pcaMethods.install-out.txt --library=/home/biocbuild/bbs-3.21-bioc/R/site-library --timings pcaMethods_2.0.0.tar.gz StartedAt: 2025-10-16 02:05:49 -0400 (Thu, 16 Oct 2025) EndedAt: 2025-10-16 02:09:00 -0400 (Thu, 16 Oct 2025) EllapsedTime: 191.2 seconds RetCode: 0 Status: OK CheckDir: pcaMethods.Rcheck Warnings: 0