Package: pcaMethods Version: 2.0.0 Command: /home/biocbuild/R/R/bin/R CMD INSTALL pcaMethods StartedAt: 2025-10-13 20:24:18 -0000 (Mon, 13 Oct 2025) EndedAt: 2025-10-13 20:24:38 -0000 (Mon, 13 Oct 2025) EllapsedTime: 20.2 seconds RetCode: 0 Status: OK