Package: pcaMethods Version: 2.0.0 Command: /home/biocbuild/R/R/bin/R CMD check --install=check:pcaMethods.install-out.txt --library=/home/biocbuild/R/R/site-library --no-vignettes --timings pcaMethods_2.0.0.tar.gz StartedAt: 2025-10-14 12:23:57 -0000 (Tue, 14 Oct 2025) EndedAt: 2025-10-14 12:26:36 -0000 (Tue, 14 Oct 2025) EllapsedTime: 159.2 seconds RetCode: 0 Status: OK CheckDir: pcaMethods.Rcheck Warnings: 0