Package: pcaMethods Version: 2.0.0 Command: /home/biocbuild/R/R/bin/R CMD build --keep-empty-dirs --no-resave-data pcaMethods StartedAt: 2025-10-14 03:26:20 -0000 (Tue, 14 Oct 2025) EndedAt: 2025-10-14 03:29:28 -0000 (Tue, 14 Oct 2025) EllapsedTime: 187.2 seconds RetCode: 0 Status: OK PackageFile: pcaMethods_2.0.0.tar.gz PackageFileSize: 990.9 KiB