Package: pcaExplorer Version: 3.2.0 Command: /home/biocbuild/bbs-3.21-bioc/R/bin/R CMD INSTALL pcaExplorer StartedAt: 2025-10-15 15:51:32 -0400 (Wed, 15 Oct 2025) EndedAt: 2025-10-15 15:52:26 -0400 (Wed, 15 Oct 2025) EllapsedTime: 53.5 seconds RetCode: 0 Status: OK