Package: pcaExplorer Version: 3.2.0 Command: /home/biocbuild/bbs-3.21-bioc/R/bin/R CMD build --keep-empty-dirs --no-resave-data pcaExplorer StartedAt: 2025-10-15 19:05:36 -0400 (Wed, 15 Oct 2025) EndedAt: 2025-10-15 19:07:37 -0400 (Wed, 15 Oct 2025) EllapsedTime: 121.1 seconds RetCode: 0 Status: OK PackageFile: pcaExplorer_3.2.0.tar.gz PackageFileSize: 10.72 MiB