Package: pcaExplorer Version: 3.2.0 Command: /home/biocbuild/R/R/bin/R CMD INSTALL pcaExplorer StartedAt: 2025-10-13 21:10:32 -0000 (Mon, 13 Oct 2025) EndedAt: 2025-10-13 21:11:47 -0000 (Mon, 13 Oct 2025) EllapsedTime: 75.8 seconds RetCode: 0 Status: OK