Package: pcaExplorer Version: 3.2.0 Command: /home/biocbuild/R/R/bin/R CMD build --keep-empty-dirs --no-resave-data pcaExplorer StartedAt: 2025-10-14 03:26:16 -0000 (Tue, 14 Oct 2025) EndedAt: 2025-10-14 03:29:12 -0000 (Tue, 14 Oct 2025) EllapsedTime: 175.2 seconds RetCode: 0 Status: OK PackageFile: pcaExplorer_3.2.0.tar.gz PackageFileSize: 10.71 MiB