Package: pcaExplorer Version: 3.2.0 Command: /Library/Frameworks/R.framework/Resources/bin/R CMD INSTALL pcaExplorer StartedAt: 2025-10-13 17:54:12 -0400 (Mon, 13 Oct 2025) EndedAt: 2025-10-13 17:55:17 -0400 (Mon, 13 Oct 2025) EllapsedTime: 64.6 seconds RetCode: 0 Status: OK