Package: paxtoolsr Version: 1.42.0 Command: /home/biocbuild/bbs-3.21-bioc/R/bin/R CMD INSTALL paxtoolsr StartedAt: 2025-10-15 15:07:04 -0400 (Wed, 15 Oct 2025) EndedAt: 2025-10-15 15:07:18 -0400 (Wed, 15 Oct 2025) EllapsedTime: 14.7 seconds RetCode: 0 Status: OK