Package: paxtoolsr Version: 1.42.0 Command: /home/biocbuild/bbs-3.21-bioc/R/bin/R CMD build --keep-empty-dirs --no-resave-data paxtoolsr StartedAt: 2025-10-15 19:05:23 -0400 (Wed, 15 Oct 2025) EndedAt: 2025-10-15 19:05:43 -0400 (Wed, 15 Oct 2025) EllapsedTime: 20.0 seconds RetCode: 1 Status: ERROR PackageFile: None PackageFileSize: NA