Package: paxtoolsr Version: 1.42.0 Command: /home/biocbuild/R/R/bin/R CMD INSTALL paxtoolsr StartedAt: 2025-10-13 20:18:31 -0000 (Mon, 13 Oct 2025) EndedAt: 2025-10-13 20:18:54 -0000 (Mon, 13 Oct 2025) EllapsedTime: 22.6 seconds RetCode: 0 Status: OK