Package: paxtoolsr Version: 1.42.0 Command: /home/biocbuild/R/R/bin/R CMD build --keep-empty-dirs --no-resave-data paxtoolsr StartedAt: 2025-10-14 03:26:04 -0000 (Tue, 14 Oct 2025) EndedAt: 2025-10-14 03:26:28 -0000 (Tue, 14 Oct 2025) EllapsedTime: 24.0 seconds RetCode: 1 Status: ERROR PackageFile: None PackageFileSize: NA