Package: pathlinkR Version: 1.4.0 Command: /home/biocbuild/R/R/bin/R CMD build --keep-empty-dirs --no-resave-data pathlinkR StartedAt: 2025-10-14 03:24:43 -0000 (Tue, 14 Oct 2025) EndedAt: 2025-10-14 03:27:44 -0000 (Tue, 14 Oct 2025) EllapsedTime: 180.2 seconds RetCode: 1 Status: ERROR PackageFile: None PackageFileSize: NA