Package: pathifier Version: 1.46.0 Command: /home/biocbuild/bbs-3.21-bioc/R/bin/R CMD INSTALL pathifier StartedAt: 2025-10-15 15:05:17 -0400 (Wed, 15 Oct 2025) EndedAt: 2025-10-15 15:05:29 -0400 (Wed, 15 Oct 2025) EllapsedTime: 11.7 seconds RetCode: 0 Status: OK