Package: pathifier Version: 1.46.0 Command: /home/biocbuild/R/R/bin/R CMD build --keep-empty-dirs --no-resave-data pathifier StartedAt: 2025-10-14 03:24:39 -0000 (Tue, 14 Oct 2025) EndedAt: 2025-10-14 03:25:02 -0000 (Tue, 14 Oct 2025) EllapsedTime: 23.0 seconds RetCode: 0 Status: OK PackageFile: pathifier_1.46.0.tar.gz PackageFileSize: 2.026 MiB