Package: pathifier Version: 1.46.0 Command: /Library/Frameworks/R.framework/Resources/bin/R CMD INSTALL pathifier StartedAt: 2025-10-13 15:17:13 -0400 (Mon, 13 Oct 2025) EndedAt: 2025-10-13 15:17:23 -0400 (Mon, 13 Oct 2025) EllapsedTime: 10.5 seconds RetCode: 0 Status: OK