Package: pathRender Version: 1.76.0 Command: /home/biocbuild/R/R/bin/R CMD INSTALL pathRender StartedAt: 2025-10-13 20:39:49 -0000 (Mon, 13 Oct 2025) EndedAt: 2025-10-13 20:40:08 -0000 (Mon, 13 Oct 2025) EllapsedTime: 19.0 seconds RetCode: 0 Status: OK