Package: pathRender Version: 1.76.0 Command: /Library/Frameworks/R.framework/Resources/bin/R CMD INSTALL pathRender StartedAt: 2025-10-13 15:47:51 -0400 (Mon, 13 Oct 2025) EndedAt: 2025-10-13 15:48:06 -0400 (Mon, 13 Oct 2025) EllapsedTime: 15.5 seconds RetCode: 0 Status: OK