Package: panelcn.mops Version: 1.30.0 Command: /home/biocbuild/R/R/bin/R CMD INSTALL panelcn.mops StartedAt: 2025-10-13 20:49:40 -0000 (Mon, 13 Oct 2025) EndedAt: 2025-10-13 20:49:58 -0000 (Mon, 13 Oct 2025) EllapsedTime: 18.3 seconds RetCode: 0 Status: OK