Package: panelcn.mops Version: 1.30.0 Command: /home/biocbuild/R/R/bin/R CMD build --keep-empty-dirs --no-resave-data panelcn.mops StartedAt: 2025-10-14 03:23:22 -0000 (Tue, 14 Oct 2025) EndedAt: 2025-10-14 03:24:01 -0000 (Tue, 14 Oct 2025) EllapsedTime: 39.1 seconds RetCode: 0 Status: OK PackageFile: panelcn.mops_1.30.0.tar.gz PackageFileSize: 602.1 KiB