Package: pandaR Version: 1.40.0 Command: /home/biocbuild/R/R/bin/R CMD INSTALL pandaR StartedAt: 2025-10-13 20:24:11 -0000 (Mon, 13 Oct 2025) EndedAt: 2025-10-13 20:24:24 -0000 (Mon, 13 Oct 2025) EllapsedTime: 12.9 seconds RetCode: 0 Status: OK