Package: pandaR Version: 1.40.0 Command: /home/biocbuild/R/R/bin/R CMD build --keep-empty-dirs --no-resave-data pandaR StartedAt: 2025-10-14 03:23:06 -0000 (Tue, 14 Oct 2025) EndedAt: 2025-10-14 03:24:39 -0000 (Tue, 14 Oct 2025) EllapsedTime: 93.3 seconds RetCode: 0 Status: OK PackageFile: pandaR_1.40.0.tar.gz PackageFileSize: 8.678 MiB