Package: paircompviz Version: 1.46.0 Command: /home/biocbuild/bbs-3.21-bioc/R/bin/R CMD build --keep-empty-dirs --no-resave-data paircompviz StartedAt: 2025-10-15 19:02:34 -0400 (Wed, 15 Oct 2025) EndedAt: 2025-10-15 19:02:47 -0400 (Wed, 15 Oct 2025) EllapsedTime: 13.0 seconds RetCode: 0 Status: OK PackageFile: paircompviz_1.46.0.tar.gz PackageFileSize: 354 KiB