Package: paircompviz Version: 1.46.0 Command: /Library/Frameworks/R.framework/Resources/bin/R CMD build --keep-empty-dirs --no-resave-data paircompviz StartedAt: 2025-10-14 06:14:30 -0400 (Tue, 14 Oct 2025) EndedAt: 2025-10-14 06:15:06 -0400 (Tue, 14 Oct 2025) EllapsedTime: 35.9 seconds RetCode: 0 Status: OK PackageFile: paircompviz_1.46.0.tar.gz PackageFileSize: 354.1 KiB