Package: paircompviz Version: 1.46.0 Command: rm -rf paircompviz.buildbin-libdir && mkdir paircompviz.buildbin-libdir && /Users/biocbuild/BBS/utils/build-universal.sh paircompviz_1.46.0.tar.gz /Library/Frameworks/R.framework/Resources/bin/R paircompviz.buildbin-libdir StartedAt: 2025-10-15 19:43:45 -0400 (Wed, 15 Oct 2025) EndedAt: 2025-10-15 19:43:51 -0400 (Wed, 15 Oct 2025) EllapsedTime: 5.7 seconds RetCode: 0 Status: OK PackageFile: paircompviz_1.46.0.tgz PackageFileSize: 337.3 KiB