Package: pRolocGUI Version: 2.18.0 Command: /home/biocbuild/bbs-3.21-bioc/R/bin/R CMD INSTALL pRolocGUI StartedAt: 2025-10-15 15:37:57 -0400 (Wed, 15 Oct 2025) EndedAt: 2025-10-15 15:38:50 -0400 (Wed, 15 Oct 2025) EllapsedTime: 52.4 seconds RetCode: 0 Status: OK