Package: pRolocGUI Version: 2.18.0 Command: /home/biocbuild/bbs-3.21-bioc/R/bin/R CMD build --keep-empty-dirs --no-resave-data pRolocGUI StartedAt: 2025-10-15 19:14:15 -0400 (Wed, 15 Oct 2025) EndedAt: 2025-10-15 19:15:27 -0400 (Wed, 15 Oct 2025) EllapsedTime: 72.1 seconds RetCode: 0 Status: OK PackageFile: pRolocGUI_2.18.0.tar.gz PackageFileSize: 2.991 MiB