Package: pRolocGUI Version: 2.18.0 Command: /Library/Frameworks/R.framework/Resources/bin/R CMD build --keep-empty-dirs --no-resave-data pRolocGUI StartedAt: 2025-10-13 21:41:20 -0400 (Mon, 13 Oct 2025) EndedAt: 2025-10-13 21:44:01 -0400 (Mon, 13 Oct 2025) EllapsedTime: 160.3 seconds RetCode: 0 Status: OK PackageFile: pRolocGUI_2.18.0.tar.gz PackageFileSize: 2.991 MiB