Package: pRolocGUI Version: 2.18.0 Command: /Library/Frameworks/R.framework/Resources/bin/R CMD INSTALL pRolocGUI StartedAt: 2025-10-13 17:07:04 -0400 (Mon, 13 Oct 2025) EndedAt: 2025-10-13 17:08:08 -0400 (Mon, 13 Oct 2025) EllapsedTime: 64.1 seconds RetCode: 0 Status: OK