Package: pRolocGUI Version: 2.18.0 Command: /Library/Frameworks/R.framework/Resources/bin/R CMD build --keep-empty-dirs --no-resave-data pRolocGUI StartedAt: 2025-10-14 06:55:37 -0400 (Tue, 14 Oct 2025) EndedAt: 2025-10-14 06:57:11 -0400 (Tue, 14 Oct 2025) EllapsedTime: 94.2 seconds RetCode: 0 Status: OK PackageFile: pRolocGUI_2.18.0.tar.gz PackageFileSize: 2.992 MiB