Package: pRoloc Version: 1.48.0 Command: /home/biocbuild/bbs-3.21-bioc/R/bin/R CMD INSTALL pRoloc StartedAt: 2025-10-15 15:36:38 -0400 (Wed, 15 Oct 2025) EndedAt: 2025-10-15 15:37:57 -0400 (Wed, 15 Oct 2025) EllapsedTime: 79.0 seconds RetCode: 0 Status: OK