Package: pRoloc Version: 1.48.0 Command: /Library/Frameworks/R.framework/Resources/bin/R CMD INSTALL pRoloc StartedAt: 2025-10-13 16:14:46 -0400 (Mon, 13 Oct 2025) EndedAt: 2025-10-13 16:17:43 -0400 (Mon, 13 Oct 2025) EllapsedTime: 176.2 seconds RetCode: 0 Status: OK